BEGIN:VCALENDAR
VERSION:2.0
PRODID:-//wp-events-plugin.com//7.2.3.1//EN
TZID:America/New_York
X-WR-TIMEZONE:America/New_York
BEGIN:VEVENT
UID:1280@thecoalitiondc.org
DTSTART;TZID=America/New_York:20271208T100000
DTEND;TZID=America/New_York:20271208T113000
DTSTAMP:20241024T175547Z
URL:https://thecoalitiondc.org/events/small-business-support-working-group
 -meeting-2027-12-08/
SUMMARY:Neighborhood Commercial Corridor Working Group
DESCRIPTION:
ATTACH;FMTTYPE=image/jpeg:https://thecoalitiondc.org/wp-content/uploads/20
 24/02/CNHED_BusinessImages-378-scaled.jpg
CATEGORIES:Neighborhood Commercial Corridor Working Group
LOCATION:http://www.thecoalitiondc.org
END:VEVENT
BEGIN:VTIMEZONE
TZID:America/New_York
X-LIC-LOCATION:America/New_York
BEGIN:STANDARD
DTSTART:20271107T010000
TZOFFSETFROM:-0400
TZOFFSETTO:-0500
TZNAME:EST
END:STANDARD
END:VTIMEZONE
END:VCALENDAR