BEGIN:VCALENDAR
VERSION:2.0
PRODID:-//wp-events-plugin.com//7.2.3.1//EN
TZID:America/New_York
X-WR-TIMEZONE:America/New_York
BEGIN:VEVENT
UID:1215@thecoalitiondc.org
DTSTART;TZID=America/New_York:20290905T100000
DTEND;TZID=America/New_York:20290905T113000
DTSTAMP:20230106T142425Z
URL:https://thecoalitiondc.org/events/workforce-development-working-group-
 meeting-2029-09-05/
SUMMARY:Workforce Development Working Group Meeting
DESCRIPTION:
ATTACH;FMTTYPE=image/jpeg:https://thecoalitiondc.org/wp-content/uploads/20
 20/10/workforce-dev-meet.jpg
CATEGORIES:Workforce Development Working Group
END:VEVENT
BEGIN:VTIMEZONE
TZID:America/New_York
X-LIC-LOCATION:America/New_York
BEGIN:DAYLIGHT
DTSTART:20290311T030000
TZOFFSETFROM:-0500
TZOFFSETTO:-0400
TZNAME:EDT
END:DAYLIGHT
END:VTIMEZONE
END:VCALENDAR